BEGIN:VCALENDAR
VERSION:2.0
PRODID:-//Fast Security - ECPv6.15.20//NONSGML v1.0//EN
CALSCALE:GREGORIAN
METHOD:PUBLISH
X-WR-CALNAME:Fast Security
X-ORIGINAL-URL:https://fast-security.it
X-WR-CALDESC:Eventi per Fast Security
REFRESH-INTERVAL;VALUE=DURATION:PT1H
X-Robots-Tag:noindex
X-PUBLISHED-TTL:PT1H
BEGIN:VTIMEZONE
TZID:Europe/Paris
BEGIN:DAYLIGHT
TZOFFSETFROM:+0100
TZOFFSETTO:+0200
TZNAME:CEST
DTSTART:20240331T010000
END:DAYLIGHT
BEGIN:STANDARD
TZOFFSETFROM:+0200
TZOFFSETTO:+0100
TZNAME:CET
DTSTART:20241027T010000
END:STANDARD
BEGIN:DAYLIGHT
TZOFFSETFROM:+0100
TZOFFSETTO:+0200
TZNAME:CEST
DTSTART:20250330T010000
END:DAYLIGHT
BEGIN:STANDARD
TZOFFSETFROM:+0200
TZOFFSETTO:+0100
TZNAME:CET
DTSTART:20251026T010000
END:STANDARD
BEGIN:DAYLIGHT
TZOFFSETFROM:+0100
TZOFFSETTO:+0200
TZNAME:CEST
DTSTART:20260329T010000
END:DAYLIGHT
BEGIN:STANDARD
TZOFFSETFROM:+0200
TZOFFSETTO:+0100
TZNAME:CET
DTSTART:20261025T010000
END:STANDARD
END:VTIMEZONE
BEGIN:VEVENT
DTSTART;TZID=Europe/Paris:20251215T020000
DTEND;TZID=Europe/Paris:20251215T180000
DTSTAMP:20260422T160018
CREATED:20251125T080352Z
LAST-MODIFIED:20251125T080352Z
UID:19363-1765764000-1765821600@fast-security.it
SUMMARY:Antincendio (+ aggiornamenti)
DESCRIPTION:
URL:https://fast-security.it/calendario-corso/antincendio-aggiornamenti-3/
LOCATION:Aula + Training Center\, Viale della Navigazione Interna\, 51B\, Padova\, 35129\, Italy
ATTACH;FMTTYPE=image/jpeg:https://fast-security.it/wp-content/uploads/2025/05/antincendio_1-e1765901464212.jpg
ORGANIZER;CN="Fast Security":MAILTO:attestati@fast-security.it
END:VEVENT
BEGIN:VEVENT
DTSTART;TZID=Europe/Paris:20251215T090000
DTEND;TZID=Europe/Paris:20251215T130000
DTSTAMP:20260422T160018
CREATED:20251125T080257Z
LAST-MODIFIED:20251125T080257Z
UID:19361-1765789200-1765803600@fast-security.it
SUMMARY:Primo Soccorso
DESCRIPTION:
URL:https://fast-security.it/calendario-corso/primo-soccorso-2/
LOCATION:Aula Fast Security\, Viale della Navigazione Interna\, 51B\, Padova\, 35129\, Italy
ATTACH;FMTTYPE=image/png:https://fast-security.it/wp-content/uploads/2025/05/corso-primo-soccorso-gruppo-a.png
ORGANIZER;CN="Fast Security":MAILTO:attestati@fast-security.it
END:VEVENT
END:VCALENDAR