BEGIN:VCALENDAR
VERSION:2.0
PRODID:-//Fast Security - ECPv6.15.20//NONSGML v1.0//EN
CALSCALE:GREGORIAN
METHOD:PUBLISH
X-WR-CALNAME:Fast Security
X-ORIGINAL-URL:https://fast-security.it
X-WR-CALDESC:Eventi per Fast Security
REFRESH-INTERVAL;VALUE=DURATION:PT1H
X-Robots-Tag:noindex
X-PUBLISHED-TTL:PT1H
BEGIN:VTIMEZONE
TZID:Europe/Paris
BEGIN:DAYLIGHT
TZOFFSETFROM:+0100
TZOFFSETTO:+0200
TZNAME:CEST
DTSTART:20250330T010000
END:DAYLIGHT
BEGIN:STANDARD
TZOFFSETFROM:+0200
TZOFFSETTO:+0100
TZNAME:CET
DTSTART:20251026T010000
END:STANDARD
BEGIN:DAYLIGHT
TZOFFSETFROM:+0100
TZOFFSETTO:+0200
TZNAME:CEST
DTSTART:20260329T010000
END:DAYLIGHT
BEGIN:STANDARD
TZOFFSETFROM:+0200
TZOFFSETTO:+0100
TZNAME:CET
DTSTART:20261025T010000
END:STANDARD
BEGIN:DAYLIGHT
TZOFFSETFROM:+0100
TZOFFSETTO:+0200
TZNAME:CEST
DTSTART:20270328T010000
END:DAYLIGHT
BEGIN:STANDARD
TZOFFSETFROM:+0200
TZOFFSETTO:+0100
TZNAME:CET
DTSTART:20271031T010000
END:STANDARD
END:VTIMEZONE
BEGIN:VEVENT
DTSTART;VALUE=DATE:20260129
DTEND;VALUE=DATE:20260130
DTSTAMP:20260422T124431
CREATED:20260107T140559Z
LAST-MODIFIED:20260107T140559Z
UID:19978-1769644800-1769731199@fast-security.it
SUMMARY:Ponteggi (+ aggiornamenti)
DESCRIPTION:
URL:https://fast-security.it/calendario-corso/ponteggi-aggiornamenti/
LOCATION:Fast Security Training Center\, Viale della Navigazione Interna\, 51B\, Padova\, 35129\, Italy
ATTACH;FMTTYPE=image/png:https://fast-security.it/wp-content/uploads/2025/12/ponteggi-pimus.png
ORGANIZER;CN="Fast Security":MAILTO:attestati@fast-security.it
END:VEVENT
BEGIN:VEVENT
DTSTART;VALUE=DATE:20260129
DTEND;VALUE=DATE:20260130
DTSTAMP:20260422T124431
CREATED:20260107T140644Z
LAST-MODIFIED:20260107T140644Z
UID:19980-1769644800-1769731199@fast-security.it
SUMMARY:Trabattelli (+ aggiornamenti)
DESCRIPTION:
URL:https://fast-security.it/calendario-corso/trabattelli-aggiornamenti/
LOCATION:Fast Security Training Center\, Viale della Navigazione Interna\, 51B\, Padova\, 35129\, Italy
ATTACH;FMTTYPE=image/png:https://fast-security.it/wp-content/uploads/2025/11/trabattello.png
ORGANIZER;CN="Fast Security":MAILTO:attestati@fast-security.it
END:VEVENT
END:VCALENDAR