BEGIN:VCALENDAR
VERSION:2.0
PRODID:-//Fast Security - ECPv6.15.20//NONSGML v1.0//EN
CALSCALE:GREGORIAN
METHOD:PUBLISH
X-ORIGINAL-URL:https://fast-security.it
X-WR-CALDESC:Eventi per Fast Security
REFRESH-INTERVAL;VALUE=DURATION:PT1H
X-Robots-Tag:noindex
X-PUBLISHED-TTL:PT1H
BEGIN:VTIMEZONE
TZID:Europe/Paris
BEGIN:DAYLIGHT
TZOFFSETFROM:+0100
TZOFFSETTO:+0200
TZNAME:CEST
DTSTART:20250330T010000
END:DAYLIGHT
BEGIN:STANDARD
TZOFFSETFROM:+0200
TZOFFSETTO:+0100
TZNAME:CET
DTSTART:20251026T010000
END:STANDARD
BEGIN:DAYLIGHT
TZOFFSETFROM:+0100
TZOFFSETTO:+0200
TZNAME:CEST
DTSTART:20260329T010000
END:DAYLIGHT
BEGIN:STANDARD
TZOFFSETFROM:+0200
TZOFFSETTO:+0100
TZNAME:CET
DTSTART:20261025T010000
END:STANDARD
BEGIN:DAYLIGHT
TZOFFSETFROM:+0100
TZOFFSETTO:+0200
TZNAME:CEST
DTSTART:20270328T010000
END:DAYLIGHT
BEGIN:STANDARD
TZOFFSETFROM:+0200
TZOFFSETTO:+0100
TZNAME:CET
DTSTART:20271031T010000
END:STANDARD
END:VTIMEZONE
BEGIN:VEVENT
DTSTART;TZID=Europe/Paris:20260403T090000
DTEND;TZID=Europe/Paris:20260403T130000
DTSTAMP:20260420T093550
CREATED:20260316T112331Z
LAST-MODIFIED:20260316T112331Z
UID:20035-1775206800-1775221200@fast-security.it
SUMMARY:Primo Soccorso (solo aggiornamenti)
DESCRIPTION:
URL:https://fast-security.it/calendario-corso/primo-soccorso-solo-aggiornamenti-2/
LOCATION:Aula Fast Security\, Viale della Navigazione Interna\, 51B\, Padova\, 35129\, Italy
ATTACH;FMTTYPE=image/png:https://fast-security.it/wp-content/uploads/2025/05/corso-primo-soccorso-gruppo-b-c.png
ORGANIZER;CN="Fast Security":MAILTO:attestati@fast-security.it
END:VEVENT
END:VCALENDAR