BEGIN:VCALENDAR
VERSION:2.0
PRODID:-//Fast Security - ECPv6.15.20//NONSGML v1.0//EN
CALSCALE:GREGORIAN
METHOD:PUBLISH
X-ORIGINAL-URL:https://fast-security.it
X-WR-CALDESC:Eventi per Fast Security
REFRESH-INTERVAL;VALUE=DURATION:PT1H
X-Robots-Tag:noindex
X-PUBLISHED-TTL:PT1H
BEGIN:VTIMEZONE
TZID:Europe/Paris
BEGIN:DAYLIGHT
TZOFFSETFROM:+0100
TZOFFSETTO:+0200
TZNAME:CEST
DTSTART:20250330T010000
END:DAYLIGHT
BEGIN:STANDARD
TZOFFSETFROM:+0200
TZOFFSETTO:+0100
TZNAME:CET
DTSTART:20251026T010000
END:STANDARD
BEGIN:DAYLIGHT
TZOFFSETFROM:+0100
TZOFFSETTO:+0200
TZNAME:CEST
DTSTART:20260329T010000
END:DAYLIGHT
BEGIN:STANDARD
TZOFFSETFROM:+0200
TZOFFSETTO:+0100
TZNAME:CET
DTSTART:20261025T010000
END:STANDARD
BEGIN:DAYLIGHT
TZOFFSETFROM:+0100
TZOFFSETTO:+0200
TZNAME:CEST
DTSTART:20270328T010000
END:DAYLIGHT
BEGIN:STANDARD
TZOFFSETFROM:+0200
TZOFFSETTO:+0100
TZNAME:CET
DTSTART:20271031T010000
END:STANDARD
END:VTIMEZONE
BEGIN:VEVENT
DTSTART;VALUE=DATE:20260626
DTEND;VALUE=DATE:20260627
DTSTAMP:20260423T110053
CREATED:20260423T081258Z
LAST-MODIFIED:20260423T083126Z
UID:20093-1782432000-1782518399@fast-security.it
SUMMARY:Datore di Lavoro (+aggiornamenti)
DESCRIPTION:
URL:https://fast-security.it/calendario-corso/datore-di-lavoro-aggiornamenti/
LOCATION:Aula Fast Security\, Viale della Navigazione Interna\, 51B\, Padova\, 35129\, Italy
ATTACH;FMTTYPE=image/png:https://fast-security.it/wp-content/uploads/2025/10/RSPP.png
END:VEVENT
BEGIN:VEVENT
DTSTART;VALUE=DATE:20260417
DTEND;VALUE=DATE:20260418
DTSTAMP:20260423T110053
CREATED:20260316T112555Z
LAST-MODIFIED:20260316T112555Z
UID:20039-1776384000-1776470399@fast-security.it
SUMMARY:Lavoratori (+ aggiornamenti)
DESCRIPTION:
URL:https://fast-security.it/calendario-corso/lavoratori-aggiornamenti-2/
LOCATION:Aula Fast Security\, Viale della Navigazione Interna\, 51B\, Padova\, 35129\, Italy
ATTACH;FMTTYPE=image/jpeg:https://fast-security.it/wp-content/uploads/2025/09/rappresentante-dei-lavoratori-per-la-sicurezza-RLS-e-agg.jpg
ORGANIZER;CN="Fast Security":MAILTO:attestati@fast-security.it
END:VEVENT
BEGIN:VEVENT
DTSTART;VALUE=DATE:20260417
DTEND;VALUE=DATE:20260418
DTSTAMP:20260423T110053
CREATED:20260316T112641Z
LAST-MODIFIED:20260316T112641Z
UID:20041-1776384000-1776470399@fast-security.it
SUMMARY:RLS (+ aggiornamenti)
DESCRIPTION:
URL:https://fast-security.it/calendario-corso/rls-aggiornamenti-2/
LOCATION:Aula Fast Security\, Viale della Navigazione Interna\, 51B\, Padova\, 35129\, Italy
ATTACH;FMTTYPE=image/png:https://fast-security.it/wp-content/uploads/2025/05/RLS-corso-32-ore.png
ORGANIZER;CN="Fast Security":MAILTO:attestati@fast-security.it
END:VEVENT
BEGIN:VEVENT
DTSTART;TZID=Europe/Paris:20260420T090000
DTEND;TZID=Europe/Paris:20260420T130000
DTSTAMP:20260423T110053
CREATED:20260316T112851Z
LAST-MODIFIED:20260316T113143Z
UID:20045-1776675600-1776690000@fast-security.it
SUMMARY:Primo Soccorso
DESCRIPTION:
URL:https://fast-security.it/calendario-corso/primo-soccorso-7/
LOCATION:Aula Fast Security\, Viale della Navigazione Interna\, 51B\, Padova\, 35129\, Italy
ATTACH;FMTTYPE=image/png:https://fast-security.it/wp-content/uploads/2025/05/corso-primo-soccorso-gruppo-b-c.png
ORGANIZER;CN="Fast Security":MAILTO:attestati@fast-security.it
END:VEVENT
BEGIN:VEVENT
DTSTART;TZID=Europe/Paris:20260420T140000
DTEND;TZID=Europe/Paris:20260420T180000
DTSTAMP:20260423T110053
CREATED:20260316T112815Z
LAST-MODIFIED:20260316T112815Z
UID:20043-1776693600-1776708000@fast-security.it
SUMMARY:Antincendio (+ aggiornamenti)
DESCRIPTION:
URL:https://fast-security.it/calendario-corso/antincendio-aggiornamenti-7/
LOCATION:Aula + Training Center\, Viale della Navigazione Interna\, 51B\, Padova\, 35129\, Italy
ATTACH;FMTTYPE=image/jpeg:https://fast-security.it/wp-content/uploads/2025/05/antincendio_1-e1765901464212.jpg
ORGANIZER;CN="Fast Security":MAILTO:attestati@fast-security.it
END:VEVENT
BEGIN:VEVENT
DTSTART;VALUE=DATE:20260424
DTEND;VALUE=DATE:20260425
DTSTAMP:20260423T110053
CREATED:20260316T112940Z
LAST-MODIFIED:20260316T112940Z
UID:20047-1776988800-1777075199@fast-security.it
SUMMARY:PLE (+ aggiornamenti)
DESCRIPTION:
URL:https://fast-security.it/calendario-corso/ple-aggiornamenti-2/
LOCATION:Aula + Training Center\, Viale della Navigazione Interna\, 51B\, Padova\, 35129\, Italy
ATTACH;FMTTYPE=image/png:https://fast-security.it/wp-content/uploads/2025/11/lavori-in-quota-senza-funi.png
ORGANIZER;CN="Fast Security":MAILTO:attestati@fast-security.it
END:VEVENT
BEGIN:VEVENT
DTSTART;VALUE=DATE:20260424
DTEND;VALUE=DATE:20260425
DTSTAMP:20260423T110053
CREATED:20260316T113107Z
LAST-MODIFIED:20260316T113107Z
UID:20049-1776988800-1777075199@fast-security.it
SUMMARY:Lavori in Quota (+ aggiornamenti)
DESCRIPTION:
URL:https://fast-security.it/calendario-corso/lavori-in-quota-aggiornamenti-2/
LOCATION:Aula + Training Center\, Viale della Navigazione Interna\, 51B\, Padova\, 35129\, Italy
ATTACH;FMTTYPE=image/png:https://fast-security.it/wp-content/uploads/2025/11/lavori-in-quota.png
ORGANIZER;CN="Fast Security":MAILTO:attestati@fast-security.it
END:VEVENT
BEGIN:VEVENT
DTSTART;VALUE=DATE:20260427
DTEND;VALUE=DATE:20260428
DTSTAMP:20260423T110053
CREATED:20260316T113304Z
LAST-MODIFIED:20260316T113304Z
UID:20051-1777248000-1777334399@fast-security.it
SUMMARY:RSPP (+ aggiornamenti)
DESCRIPTION:
URL:https://fast-security.it/calendario-corso/rspp-aggiornamenti/
LOCATION:Aula Fast Security\, Viale della Navigazione Interna\, 51B\, Padova\, 35129\, Italy
ATTACH;FMTTYPE=image/png:https://fast-security.it/wp-content/uploads/2025/10/RSPP.png
ORGANIZER;CN="Fast Security":MAILTO:attestati@fast-security.it
END:VEVENT
BEGIN:VEVENT
DTSTART;VALUE=DATE:20260427
DTEND;VALUE=DATE:20260428
DTSTAMP:20260423T110053
CREATED:20260316T113422Z
LAST-MODIFIED:20260316T113422Z
UID:20053-1777248000-1777334399@fast-security.it
SUMMARY:Preposti (+ aggiornamenti)
DESCRIPTION:
URL:https://fast-security.it/calendario-corso/preposti-aggiornamenti/
LOCATION:Aula Fast Security\, Viale della Navigazione Interna\, 51B\, Padova\, 35129\, Italy
ATTACH;FMTTYPE=image/png:https://fast-security.it/wp-content/uploads/2025/10/RSPP.png
ORGANIZER;CN="Fast Security":MAILTO:attestati@fast-security.it
END:VEVENT
BEGIN:VEVENT
DTSTART;VALUE=DATE:20260429
DTEND;VALUE=DATE:20260430
DTSTAMP:20260423T110053
CREATED:20260316T113525Z
LAST-MODIFIED:20260316T120115Z
UID:20055-1777420800-1777507199@fast-security.it
SUMMARY:Carrelli elevatori (+ aggiornamenti)
DESCRIPTION:
URL:https://fast-security.it/calendario-corso/carrelli-elevatori-aggiornamenti-3/
LOCATION:Aula + Training Center\, Viale della Navigazione Interna\, 51B\, Padova\, 35129\, Italy
ATTACH;FMTTYPE=image/png:https://fast-security.it/wp-content/uploads/2025/10/carrello-industriale-semovente.png
ORGANIZER;CN="Fast Security":MAILTO:attestati@fast-security.it
END:VEVENT
BEGIN:VEVENT
DTSTART;TZID=Europe/Paris:20260504T090000
DTEND;TZID=Europe/Paris:20260504T130000
DTSTAMP:20260423T110053
CREATED:20260423T081127Z
LAST-MODIFIED:20260423T081127Z
UID:20091-1777885200-1777899600@fast-security.it
SUMMARY:Primo Soccorso
DESCRIPTION:
URL:https://fast-security.it/calendario-corso/primo-soccorso-9/
LOCATION:Aula Fast Security\, Viale della Navigazione Interna\, 51B\, Padova\, 35129\, Italy
ATTACH;FMTTYPE=image/png:https://fast-security.it/wp-content/uploads/2025/05/corso-primo-soccorso-gruppo-b-c.png
ORGANIZER;CN="Fast Security":MAILTO:attestati@fast-security.it
END:VEVENT
BEGIN:VEVENT
DTSTART;TZID=Europe/Paris:20260504T140000
DTEND;TZID=Europe/Paris:20260504T180000
DTSTAMP:20260423T110053
CREATED:20260423T081003Z
LAST-MODIFIED:20260423T081003Z
UID:20089-1777903200-1777917600@fast-security.it
SUMMARY:Antincendio (+ aggiornamenti)
DESCRIPTION:
URL:https://fast-security.it/calendario-corso/antincendio-aggiornamenti-9/
LOCATION:Aula + Training Center\, Viale della Navigazione Interna\, 51B\, Padova\, 35129\, Italy
ATTACH;FMTTYPE=image/jpeg:https://fast-security.it/wp-content/uploads/2025/05/antincendio_1-e1765901464212.jpg
ORGANIZER;CN="Fast Security":MAILTO:attestati@fast-security.it
END:VEVENT
BEGIN:VEVENT
DTSTART;VALUE=DATE:20260508
DTEND;VALUE=DATE:20260509
DTSTAMP:20260423T110053
CREATED:20260423T083840Z
LAST-MODIFIED:20260423T083840Z
UID:20128-1778198400-1778284799@fast-security.it
SUMMARY:Ponteggi (+ aggiornamenti)
DESCRIPTION:
URL:https://fast-security.it/calendario-corso/ponteggi-aggiornamenti-2/
LOCATION:Fast Security Training Center\, Viale della Navigazione Interna\, 51B\, Padova\, 35129\, Italy
ATTACH;FMTTYPE=image/png:https://fast-security.it/wp-content/uploads/2025/12/ponteggi-pimus.png
ORGANIZER;CN="Fast Security":MAILTO:attestati@fast-security.it
END:VEVENT
BEGIN:VEVENT
DTSTART;VALUE=DATE:20260508
DTEND;VALUE=DATE:20260509
DTSTAMP:20260423T110053
CREATED:20260423T084107Z
LAST-MODIFIED:20260423T084107Z
UID:20130-1778198400-1778284799@fast-security.it
SUMMARY:Trabattelli (+ aggiornamenti)
DESCRIPTION:
URL:https://fast-security.it/calendario-corso/trabattelli-aggiornamenti-2/
LOCATION:Fast Security Training Center\, Viale della Navigazione Interna\, 51B\, Padova\, 35129\, Italy
ATTACH;FMTTYPE=image/png:https://fast-security.it/wp-content/uploads/2025/11/trabattello.png
ORGANIZER;CN="Fast Security":MAILTO:attestati@fast-security.it
END:VEVENT
BEGIN:VEVENT
DTSTART;TZID=Europe/Paris:20260518T090000
DTEND;TZID=Europe/Paris:20260518T130000
DTSTAMP:20260423T110053
CREATED:20260423T081635Z
LAST-MODIFIED:20260423T081635Z
UID:20099-1779094800-1779109200@fast-security.it
SUMMARY:Primo Soccorso (solo aggiornamenti)
DESCRIPTION:
URL:https://fast-security.it/calendario-corso/primo-soccorso-solo-aggiornamenti-3/
LOCATION:Aula Fast Security\, Viale della Navigazione Interna\, 51B\, Padova\, 35129\, Italy
ATTACH;FMTTYPE=image/png:https://fast-security.it/wp-content/uploads/2025/05/corso-primo-soccorso-gruppo-b-c.png
ORGANIZER;CN="Fast Security":MAILTO:attestati@fast-security.it
END:VEVENT
BEGIN:VEVENT
DTSTART;TZID=Europe/Paris:20260518T140000
DTEND;TZID=Europe/Paris:20260518T180000
DTSTAMP:20260423T110053
CREATED:20260423T081508Z
LAST-MODIFIED:20260423T081508Z
UID:20097-1779112800-1779127200@fast-security.it
SUMMARY:Antincendio (+ aggiornamenti)
DESCRIPTION:
URL:https://fast-security.it/calendario-corso/antincendio-aggiornamenti-10/
LOCATION:Aula + Training Center\, Viale della Navigazione Interna\, 51B\, Padova\, 35129\, Italy
ATTACH;FMTTYPE=image/jpeg:https://fast-security.it/wp-content/uploads/2025/05/antincendio_1-e1765901464212.jpg
ORGANIZER;CN="Fast Security":MAILTO:attestati@fast-security.it
END:VEVENT
BEGIN:VEVENT
DTSTART;VALUE=DATE:20260522
DTEND;VALUE=DATE:20260523
DTSTAMP:20260423T110053
CREATED:20260423T081734Z
LAST-MODIFIED:20260423T081734Z
UID:20101-1779408000-1779494399@fast-security.it
SUMMARY:Lavoratori (+ aggiornamenti)
DESCRIPTION:
URL:https://fast-security.it/calendario-corso/lavoratori-aggiornamenti-4/
LOCATION:Aula Fast Security\, Viale della Navigazione Interna\, 51B\, Padova\, 35129\, Italy
ATTACH;FMTTYPE=image/jpeg:https://fast-security.it/wp-content/uploads/2025/09/rappresentante-dei-lavoratori-per-la-sicurezza-RLS-e-agg.jpg
ORGANIZER;CN="Fast Security":MAILTO:attestati@fast-security.it
END:VEVENT
BEGIN:VEVENT
DTSTART;VALUE=DATE:20260522
DTEND;VALUE=DATE:20260523
DTSTAMP:20260423T110053
CREATED:20260423T081842Z
LAST-MODIFIED:20260423T081842Z
UID:20103-1779408000-1779494399@fast-security.it
SUMMARY:RLS (+ aggiornamenti)
DESCRIPTION:
URL:https://fast-security.it/calendario-corso/rls-aggiornamenti-4/
LOCATION:Aula Fast Security\, Viale della Navigazione Interna\, 51B\, Padova\, 35129\, Italy
ATTACH;FMTTYPE=image/png:https://fast-security.it/wp-content/uploads/2025/05/RLS-corso-32-ore.png
ORGANIZER;CN="Fast Security":MAILTO:attestati@fast-security.it
END:VEVENT
BEGIN:VEVENT
DTSTART;TZID=Europe/Paris:20260525T090000
DTEND;TZID=Europe/Paris:20260525T130000
DTSTAMP:20260423T110053
CREATED:20260423T082107Z
LAST-MODIFIED:20260423T082107Z
UID:20107-1779699600-1779714000@fast-security.it
SUMMARY:Primo Soccorso
DESCRIPTION:
URL:https://fast-security.it/calendario-corso/primo-soccorso-10/
LOCATION:Aula Fast Security\, Viale della Navigazione Interna\, 51B\, Padova\, 35129\, Italy
ATTACH;FMTTYPE=image/png:https://fast-security.it/wp-content/uploads/2025/05/corso-primo-soccorso-gruppo-b-c.png
ORGANIZER;CN="Fast Security":MAILTO:attestati@fast-security.it
END:VEVENT
BEGIN:VEVENT
DTSTART;TZID=Europe/Paris:20260525T140000
DTEND;TZID=Europe/Paris:20260525T180000
DTSTAMP:20260423T110053
CREATED:20260423T081938Z
LAST-MODIFIED:20260423T081938Z
UID:20105-1779717600-1779732000@fast-security.it
SUMMARY:Antincendio (+ aggiornamenti)
DESCRIPTION:
URL:https://fast-security.it/calendario-corso/antincendio-aggiornamenti-11/
LOCATION:Aula + Training Center\, Viale della Navigazione Interna\, 51B\, Padova\, 35129\, Italy
ATTACH;FMTTYPE=image/jpeg:https://fast-security.it/wp-content/uploads/2025/05/antincendio_1-e1765901464212.jpg
ORGANIZER;CN="Fast Security":MAILTO:attestati@fast-security.it
END:VEVENT
BEGIN:VEVENT
DTSTART;VALUE=DATE:20260529
DTEND;VALUE=DATE:20260530
DTSTAMP:20260423T110053
CREATED:20260423T082156Z
LAST-MODIFIED:20260423T082156Z
UID:20109-1780012800-1780099199@fast-security.it
SUMMARY:Preposti (+ aggiornamenti)
DESCRIPTION:
URL:https://fast-security.it/calendario-corso/preposti-aggiornamenti-3/
LOCATION:Aula Fast Security\, Viale della Navigazione Interna\, 51B\, Padova\, 35129\, Italy
ATTACH;FMTTYPE=image/png:https://fast-security.it/wp-content/uploads/2025/10/RSPP.png
ORGANIZER;CN="Fast Security":MAILTO:attestati@fast-security.it
END:VEVENT
BEGIN:VEVENT
DTSTART;VALUE=DATE:20260612
DTEND;VALUE=DATE:20260613
DTSTAMP:20260423T110053
CREATED:20260423T082311Z
LAST-MODIFIED:20260423T082311Z
UID:20111-1781222400-1781308799@fast-security.it
SUMMARY:PLE (+ aggiornamenti)
DESCRIPTION:
URL:https://fast-security.it/calendario-corso/ple-aggiornamenti-3/
LOCATION:Aula + Training Center\, Viale della Navigazione Interna\, 51B\, Padova\, 35129\, Italy
ATTACH;FMTTYPE=image/png:https://fast-security.it/wp-content/uploads/2025/11/lavori-in-quota-senza-funi.png
ORGANIZER;CN="Fast Security":MAILTO:attestati@fast-security.it
END:VEVENT
BEGIN:VEVENT
DTSTART;VALUE=DATE:20260612
DTEND;VALUE=DATE:20260613
DTSTAMP:20260423T110053
CREATED:20260423T082402Z
LAST-MODIFIED:20260423T082402Z
UID:20112-1781222400-1781308799@fast-security.it
SUMMARY:Lavori in Quota (+ aggiornamenti)
DESCRIPTION:
URL:https://fast-security.it/calendario-corso/lavori-in-quota-aggiornamenti-3/
LOCATION:Aula + Training Center\, Viale della Navigazione Interna\, 51B\, Padova\, 35129\, Italy
ATTACH;FMTTYPE=image/png:https://fast-security.it/wp-content/uploads/2025/11/lavori-in-quota.png
ORGANIZER;CN="Fast Security":MAILTO:attestati@fast-security.it
END:VEVENT
BEGIN:VEVENT
DTSTART;TZID=Europe/Paris:20260615T090000
DTEND;TZID=Europe/Paris:20260615T130000
DTSTAMP:20260423T110053
CREATED:20260423T082610Z
LAST-MODIFIED:20260423T082610Z
UID:20117-1781514000-1781528400@fast-security.it
SUMMARY:Primo Soccorso
DESCRIPTION:
URL:https://fast-security.it/calendario-corso/primo-soccorso-11/
LOCATION:Aula Fast Security\, Viale della Navigazione Interna\, 51B\, Padova\, 35129\, Italy
ATTACH;FMTTYPE=image/png:https://fast-security.it/wp-content/uploads/2025/05/corso-primo-soccorso-gruppo-b-c.png
ORGANIZER;CN="Fast Security":MAILTO:attestati@fast-security.it
END:VEVENT
BEGIN:VEVENT
DTSTART;TZID=Europe/Paris:20260615T140000
DTEND;TZID=Europe/Paris:20260615T180000
DTSTAMP:20260423T110053
CREATED:20260423T082507Z
LAST-MODIFIED:20260423T082507Z
UID:20115-1781532000-1781546400@fast-security.it
SUMMARY:Antincendio (+ aggiornamenti)
DESCRIPTION:
URL:https://fast-security.it/calendario-corso/antincendio-aggiornamenti-12/
LOCATION:Aula + Training Center\, Viale della Navigazione Interna\, 51B\, Padova\, 35129\, Italy
ATTACH;FMTTYPE=image/jpeg:https://fast-security.it/wp-content/uploads/2025/05/antincendio_1-e1765901464212.jpg
ORGANIZER;CN="Fast Security":MAILTO:attestati@fast-security.it
END:VEVENT
BEGIN:VEVENT
DTSTART;VALUE=DATE:20260619
DTEND;VALUE=DATE:20260620
DTSTAMP:20260423T110053
CREATED:20260423T080235Z
LAST-MODIFIED:20260423T080235Z
UID:20087-1781827200-1781913599@fast-security.it
SUMMARY:Carrelli elevatori (+ aggiornamenti)
DESCRIPTION:
URL:https://fast-security.it/calendario-corso/carrelli-elevatori-aggiornamenti-5/
LOCATION:Aula + Training Center\, Viale della Navigazione Interna\, 51B\, Padova\, 35129\, Italy
ATTACH;FMTTYPE=image/png:https://fast-security.it/wp-content/uploads/2025/10/carrello-industriale-semovente.png
ORGANIZER;CN="Fast Security":MAILTO:attestati@fast-security.it
END:VEVENT
BEGIN:VEVENT
DTSTART;VALUE=DATE:20260619
DTEND;VALUE=DATE:20260620
DTSTAMP:20260423T110053
CREATED:20260423T082712Z
LAST-MODIFIED:20260423T082712Z
UID:20119-1781827200-1781913599@fast-security.it
SUMMARY:Carrelli elevatori (+ aggiornamenti)
DESCRIPTION:
URL:https://fast-security.it/calendario-corso/carrelli-elevatori-aggiornamenti-6/
LOCATION:Aula + Training Center\, Viale della Navigazione Interna\, 51B\, Padova\, 35129\, Italy
ATTACH;FMTTYPE=image/png:https://fast-security.it/wp-content/uploads/2025/10/carrello-industriale-semovente.png
ORGANIZER;CN="Fast Security":MAILTO:attestati@fast-security.it
END:VEVENT
BEGIN:VEVENT
DTSTART;TZID=Europe/Paris:20260622T090000
DTEND;TZID=Europe/Paris:20260622T130000
DTSTAMP:20260423T110053
CREATED:20260423T082926Z
LAST-MODIFIED:20260423T082926Z
UID:20122-1782118800-1782133200@fast-security.it
SUMMARY:Primo Soccorso (solo aggiornamenti)
DESCRIPTION:
URL:https://fast-security.it/calendario-corso/primo-soccorso-solo-aggiornamenti-4/
LOCATION:Aula Fast Security\, Viale della Navigazione Interna\, 51B\, Padova\, 35129\, Italy
ATTACH;FMTTYPE=image/png:https://fast-security.it/wp-content/uploads/2025/05/corso-primo-soccorso-gruppo-b-c.png
ORGANIZER;CN="Fast Security":MAILTO:attestati@fast-security.it
END:VEVENT
BEGIN:VEVENT
DTSTART;TZID=Europe/Paris:20260622T140000
DTEND;TZID=Europe/Paris:20260622T180000
DTSTAMP:20260423T110053
CREATED:20260423T082827Z
LAST-MODIFIED:20260423T082827Z
UID:20121-1782136800-1782151200@fast-security.it
SUMMARY:Antincendio (+ aggiornamenti)
DESCRIPTION:
URL:https://fast-security.it/calendario-corso/antincendio-aggiornamenti-13/
LOCATION:Aula + Training Center\, Viale della Navigazione Interna\, 51B\, Padova\, 35129\, Italy
ATTACH;FMTTYPE=image/jpeg:https://fast-security.it/wp-content/uploads/2025/05/antincendio_1-e1765901464212.jpg
ORGANIZER;CN="Fast Security":MAILTO:attestati@fast-security.it
END:VEVENT
END:VCALENDAR