BEGIN:VCALENDAR
VERSION:2.0
PRODID:-//Fast Security - ECPv6.15.20//NONSGML v1.0//EN
CALSCALE:GREGORIAN
METHOD:PUBLISH
X-WR-CALNAME:Fast Security
X-ORIGINAL-URL:https://fast-security.it
X-WR-CALDESC:Eventi per Fast Security
REFRESH-INTERVAL;VALUE=DURATION:PT1H
X-Robots-Tag:noindex
X-PUBLISHED-TTL:PT1H
BEGIN:VTIMEZONE
TZID:Europe/Paris
BEGIN:DAYLIGHT
TZOFFSETFROM:+0100
TZOFFSETTO:+0200
TZNAME:CEST
DTSTART:20250330T010000
END:DAYLIGHT
BEGIN:STANDARD
TZOFFSETFROM:+0200
TZOFFSETTO:+0100
TZNAME:CET
DTSTART:20251026T010000
END:STANDARD
BEGIN:DAYLIGHT
TZOFFSETFROM:+0100
TZOFFSETTO:+0200
TZNAME:CEST
DTSTART:20260329T010000
END:DAYLIGHT
BEGIN:STANDARD
TZOFFSETFROM:+0200
TZOFFSETTO:+0100
TZNAME:CET
DTSTART:20261025T010000
END:STANDARD
BEGIN:DAYLIGHT
TZOFFSETFROM:+0100
TZOFFSETTO:+0200
TZNAME:CEST
DTSTART:20270328T010000
END:DAYLIGHT
BEGIN:STANDARD
TZOFFSETFROM:+0200
TZOFFSETTO:+0100
TZNAME:CET
DTSTART:20271031T010000
END:STANDARD
END:VTIMEZONE
BEGIN:VEVENT
DTSTART;TZID=Europe/Paris:20260205T090000
DTEND;TZID=Europe/Paris:20260206T180000
DTSTAMP:20260422T110820
CREATED:20251124T134702Z
LAST-MODIFIED:20251209T090912Z
UID:19356-1770282000-1770400800@fast-security.it
SUMMARY:Datore di Lavoro (Nuovo Accordo Stato-Regioni)
DESCRIPTION:
URL:https://fast-security.it/calendario-corso/datore-di-lavoro-nuovo-accordo-stato-regioni/
LOCATION:Aula Fast Security\, Viale della Navigazione Interna\, 51B\, Padova\, 35129\, Italy
ATTACH;FMTTYPE=image/png:https://fast-security.it/wp-content/uploads/2025/10/RSPP.png
END:VEVENT
BEGIN:VEVENT
DTSTART;VALUE=DATE:20260213
DTEND;VALUE=DATE:20260214
DTSTAMP:20260422T110820
CREATED:20260107T141449Z
LAST-MODIFIED:20260107T141529Z
UID:19990-1770940800-1771027199@fast-security.it
SUMMARY:Carrelli elevatori (+ aggiornamenti)
DESCRIPTION:
URL:https://fast-security.it/calendario-corso/carrelli-elevatori-aggiornamenti-2/
LOCATION:Aula + Training Center\, Viale della Navigazione Interna\, 51B\, Padova\, 35129\, Italy
ATTACH;FMTTYPE=image/png:https://fast-security.it/wp-content/uploads/2025/10/carrello-industriale-semovente.png
ORGANIZER;CN="Fast Security":MAILTO:attestati@fast-security.it
END:VEVENT
BEGIN:VEVENT
DTSTART;TZID=Europe/Paris:20260216T090000
DTEND;TZID=Europe/Paris:20260216T130000
DTSTAMP:20260422T110820
CREATED:20260107T141014Z
LAST-MODIFIED:20260107T141014Z
UID:19982-1771232400-1771246800@fast-security.it
SUMMARY:Primo Soccorso
DESCRIPTION:
URL:https://fast-security.it/calendario-corso/primo-soccorso-4/
LOCATION:Aula Fast Security\, Viale della Navigazione Interna\, 51B\, Padova\, 35129\, Italy
ATTACH;FMTTYPE=image/png:https://fast-security.it/wp-content/uploads/2025/05/corso-primo-soccorso-gruppo-a.png
ORGANIZER;CN="Fast Security":MAILTO:attestati@fast-security.it
END:VEVENT
BEGIN:VEVENT
DTSTART;TZID=Europe/Paris:20260216T140000
DTEND;TZID=Europe/Paris:20260216T180000
DTSTAMP:20260422T110820
CREATED:20260107T141105Z
LAST-MODIFIED:20260107T141105Z
UID:19984-1771250400-1771264800@fast-security.it
SUMMARY:Antincendio (+ aggiornamenti)
DESCRIPTION:
URL:https://fast-security.it/calendario-corso/antincendio-aggiornamenti-6/
LOCATION:Aula + Training Center\, Viale della Navigazione Interna\, 51B\, Padova\, 35129\, Italy
ATTACH;FMTTYPE=image/jpeg:https://fast-security.it/wp-content/uploads/2025/05/antincendio_1-e1765901464212.jpg
ORGANIZER;CN="Fast Security":MAILTO:attestati@fast-security.it
END:VEVENT
BEGIN:VEVENT
DTSTART;VALUE=DATE:20260220
DTEND;VALUE=DATE:20260221
DTSTAMP:20260422T110820
CREATED:20260107T141228Z
LAST-MODIFIED:20260107T141228Z
UID:19986-1771545600-1771631999@fast-security.it
SUMMARY:Lavoratori (+ aggiornamenti)
DESCRIPTION:
URL:https://fast-security.it/calendario-corso/lavoratori-aggiornamenti/
LOCATION:Aula Fast Security\, Viale della Navigazione Interna\, 51B\, Padova\, 35129\, Italy
ATTACH;FMTTYPE=image/jpeg:https://fast-security.it/wp-content/uploads/2025/09/rappresentante-dei-lavoratori-per-la-sicurezza-RLS-e-agg.jpg
ORGANIZER;CN="Fast Security":MAILTO:attestati@fast-security.it
END:VEVENT
BEGIN:VEVENT
DTSTART;VALUE=DATE:20260220
DTEND;VALUE=DATE:20260221
DTSTAMP:20260422T110820
CREATED:20260107T141345Z
LAST-MODIFIED:20260107T141345Z
UID:19988-1771545600-1771631999@fast-security.it
SUMMARY:RLS (+ aggiornamenti)
DESCRIPTION:
URL:https://fast-security.it/calendario-corso/rls-aggiornamenti/
LOCATION:Aula Fast Security\, Viale della Navigazione Interna\, 51B\, Padova\, 35129\, Italy
ATTACH;FMTTYPE=image/png:https://fast-security.it/wp-content/uploads/2025/05/RLS-corso-32-ore.png
ORGANIZER;CN="Fast Security":MAILTO:attestati@fast-security.it
END:VEVENT
END:VCALENDAR