BEGIN:VCALENDAR
VERSION:2.0
PRODID:-//Fast Security - ECPv6.15.20//NONSGML v1.0//EN
CALSCALE:GREGORIAN
METHOD:PUBLISH
X-ORIGINAL-URL:https://fast-security.it
X-WR-CALDESC:Eventi per Fast Security
REFRESH-INTERVAL;VALUE=DURATION:PT1H
X-Robots-Tag:noindex
X-PUBLISHED-TTL:PT1H
BEGIN:VTIMEZONE
TZID:Europe/Paris
BEGIN:DAYLIGHT
TZOFFSETFROM:+0100
TZOFFSETTO:+0200
TZNAME:CEST
DTSTART:20250330T010000
END:DAYLIGHT
BEGIN:STANDARD
TZOFFSETFROM:+0200
TZOFFSETTO:+0100
TZNAME:CET
DTSTART:20251026T010000
END:STANDARD
BEGIN:DAYLIGHT
TZOFFSETFROM:+0100
TZOFFSETTO:+0200
TZNAME:CEST
DTSTART:20260329T010000
END:DAYLIGHT
BEGIN:STANDARD
TZOFFSETFROM:+0200
TZOFFSETTO:+0100
TZNAME:CET
DTSTART:20261025T010000
END:STANDARD
BEGIN:DAYLIGHT
TZOFFSETFROM:+0100
TZOFFSETTO:+0200
TZNAME:CEST
DTSTART:20270328T010000
END:DAYLIGHT
BEGIN:STANDARD
TZOFFSETFROM:+0200
TZOFFSETTO:+0100
TZNAME:CET
DTSTART:20271031T010000
END:STANDARD
END:VTIMEZONE
BEGIN:VEVENT
DTSTART;VALUE=DATE:20260306
DTEND;VALUE=DATE:20260307
DTSTAMP:20260420T093549
CREATED:20260213T165223Z
LAST-MODIFIED:20260213T165223Z
UID:20004-1772755200-1772841599@fast-security.it
SUMMARY:PLE (+ aggiornamenti)
DESCRIPTION:
URL:https://fast-security.it/calendario-corso/ple-aggiornamenti/
LOCATION:Aula + Training Center\, Viale della Navigazione Interna\, 51B\, Padova\, 35129\, Italy
ATTACH;FMTTYPE=image/png:https://fast-security.it/wp-content/uploads/2025/11/lavori-in-quota-senza-funi.png
ORGANIZER;CN="Fast Security":MAILTO:attestati@fast-security.it
END:VEVENT
BEGIN:VEVENT
DTSTART;VALUE=DATE:20260306
DTEND;VALUE=DATE:20260307
DTSTAMP:20260420T093549
CREATED:20260213T165319Z
LAST-MODIFIED:20260213T165319Z
UID:20006-1772755200-1772841599@fast-security.it
SUMMARY:Lavori in Quota (+ aggiornamenti)
DESCRIPTION:
URL:https://fast-security.it/calendario-corso/lavori-in-quota-aggiornamenti/
LOCATION:Aula + Training Center\, Viale della Navigazione Interna\, 51B\, Padova\, 35129\, Italy
ATTACH;FMTTYPE=image/png:https://fast-security.it/wp-content/uploads/2025/11/lavori-in-quota.png
ORGANIZER;CN="Fast Security":MAILTO:attestati@fast-security.it
END:VEVENT
BEGIN:VEVENT
DTSTART;TZID=Europe/Paris:20260309T090000
DTEND;TZID=Europe/Paris:20260309T130000
DTSTAMP:20260420T093549
CREATED:20260213T165517Z
LAST-MODIFIED:20260213T165517Z
UID:20008-1773046800-1773061200@fast-security.it
SUMMARY:Primo Soccorso
DESCRIPTION:
URL:https://fast-security.it/calendario-corso/primo-soccorso-5/
LOCATION:Aula Fast Security\, Viale della Navigazione Interna\, 51B\, Padova\, 35129\, Italy
ATTACH;FMTTYPE=image/png:https://fast-security.it/wp-content/uploads/2025/05/corso-primo-soccorso-gruppo-b-c.png
ORGANIZER;CN="Fast Security":MAILTO:attestati@fast-security.it
END:VEVENT
BEGIN:VEVENT
DTSTART;VALUE=DATE:20260320
DTEND;VALUE=DATE:20260321
DTSTAMP:20260420T093549
CREATED:20260316T114734Z
LAST-MODIFIED:20260316T114734Z
UID:20059-1773964800-1774051199@fast-security.it
SUMMARY:Lavoratori (+ aggiornamenti)
DESCRIPTION:
URL:https://fast-security.it/calendario-corso/lavoratori-aggiornamenti-3/
LOCATION:Aula Fast Security\, Viale della Navigazione Interna\, 51B\, Padova\, 35129\, Italy
ATTACH;FMTTYPE=image/jpeg:https://fast-security.it/wp-content/uploads/2025/09/rappresentante-dei-lavoratori-per-la-sicurezza-RLS-e-agg.jpg
ORGANIZER;CN="Fast Security":MAILTO:attestati@fast-security.it
END:VEVENT
BEGIN:VEVENT
DTSTART;VALUE=DATE:20260320
DTEND;VALUE=DATE:20260321
DTSTAMP:20260420T093549
CREATED:20260316T114933Z
LAST-MODIFIED:20260316T114933Z
UID:20061-1773964800-1774051199@fast-security.it
SUMMARY:RLS (+ aggiornamenti)
DESCRIPTION:
URL:https://fast-security.it/calendario-corso/rls-aggiornamenti-3/
LOCATION:Aula Fast Security\, Viale della Navigazione Interna\, 51B\, Padova\, 35129\, Italy
ATTACH;FMTTYPE=image/png:https://fast-security.it/wp-content/uploads/2025/05/RLS-corso-32-ore.png
ORGANIZER;CN="Fast Security":MAILTO:attestati@fast-security.it
END:VEVENT
BEGIN:VEVENT
DTSTART;TZID=Europe/Paris:20260323T090000
DTEND;TZID=Europe/Paris:20260323T130000
DTSTAMP:20260420T093549
CREATED:20260213T165549Z
LAST-MODIFIED:20260213T165549Z
UID:20010-1774256400-1774270800@fast-security.it
SUMMARY:Primo Soccorso
DESCRIPTION:
URL:https://fast-security.it/calendario-corso/primo-soccorso-6/
LOCATION:Aula Fast Security\, Viale della Navigazione Interna\, 51B\, Padova\, 35129\, Italy
ATTACH;FMTTYPE=image/png:https://fast-security.it/wp-content/uploads/2025/05/corso-primo-soccorso-gruppo-b-c.png
ORGANIZER;CN="Fast Security":MAILTO:attestati@fast-security.it
END:VEVENT
BEGIN:VEVENT
DTSTART;VALUE=DATE:20260325
DTEND;VALUE=DATE:20260326
DTSTAMP:20260420T093549
CREATED:20260316T114644Z
LAST-MODIFIED:20260316T114644Z
UID:20057-1774396800-1774483199@fast-security.it
SUMMARY:Carrelli elevatori (+ aggiornamenti)
DESCRIPTION:
URL:https://fast-security.it/calendario-corso/carrelli-elevatori-aggiornamenti-4/
LOCATION:Aula + Training Center\, Viale della Navigazione Interna\, 51B\, Padova\, 35129\, Italy
ATTACH;FMTTYPE=image/png:https://fast-security.it/wp-content/uploads/2025/10/carrello-industriale-semovente.png
ORGANIZER;CN="Fast Security":MAILTO:attestati@fast-security.it
END:VEVENT
BEGIN:VEVENT
DTSTART;VALUE=DATE:20260327
DTEND;VALUE=DATE:20260328
DTSTAMP:20260420T093549
CREATED:20260316T115018Z
LAST-MODIFIED:20260316T115018Z
UID:20063-1774569600-1774655999@fast-security.it
SUMMARY:RSPP (+ aggiornamenti)
DESCRIPTION:
URL:https://fast-security.it/calendario-corso/rspp-aggiornamenti-2/
LOCATION:Aula Fast Security\, Viale della Navigazione Interna\, 51B\, Padova\, 35129\, Italy
ATTACH;FMTTYPE=image/png:https://fast-security.it/wp-content/uploads/2025/10/RSPP.png
ORGANIZER;CN="Fast Security":MAILTO:attestati@fast-security.it
END:VEVENT
BEGIN:VEVENT
DTSTART;VALUE=DATE:20260327
DTEND;VALUE=DATE:20260328
DTSTAMP:20260420T093549
CREATED:20260316T115116Z
LAST-MODIFIED:20260316T115116Z
UID:20065-1774569600-1774655999@fast-security.it
SUMMARY:Preposti (+ aggiornamenti)
DESCRIPTION:
URL:https://fast-security.it/calendario-corso/preposti-aggiornamenti-2/
LOCATION:Aula Fast Security\, Viale della Navigazione Interna\, 51B\, Padova\, 35129\, Italy
ATTACH;FMTTYPE=image/png:https://fast-security.it/wp-content/uploads/2025/10/RSPP.png
ORGANIZER;CN="Fast Security":MAILTO:attestati@fast-security.it
END:VEVENT
BEGIN:VEVENT
DTSTART;TZID=Europe/Paris:20260330T090000
DTEND;TZID=Europe/Paris:20260330T130000
DTSTAMP:20260420T093549
CREATED:20260213T165639Z
LAST-MODIFIED:20260213T165639Z
UID:20012-1774861200-1774875600@fast-security.it
SUMMARY:Primo Soccorso (solo aggiornamenti)
DESCRIPTION:
URL:https://fast-security.it/calendario-corso/primo-soccorso-solo-aggiornamenti/
LOCATION:Aula Fast Security\, Viale della Navigazione Interna\, 51B\, Padova\, 35129\, Italy
ATTACH;FMTTYPE=image/png:https://fast-security.it/wp-content/uploads/2025/05/corso-primo-soccorso-gruppo-b-c.png
ORGANIZER;CN="Fast Security":MAILTO:attestati@fast-security.it
END:VEVENT
BEGIN:VEVENT
DTSTART;TZID=Europe/Paris:20260330T090000
DTEND;TZID=Europe/Paris:20260330T130000
DTSTAMP:20260420T093549
CREATED:20260316T115250Z
LAST-MODIFIED:20260316T115250Z
UID:20069-1774861200-1774875600@fast-security.it
SUMMARY:Primo Soccorso
DESCRIPTION:
URL:https://fast-security.it/calendario-corso/primo-soccorso-8/
LOCATION:Aula Fast Security\, Viale della Navigazione Interna\, 51B\, Padova\, 35129\, Italy
ATTACH;FMTTYPE=image/png:https://fast-security.it/wp-content/uploads/2025/05/corso-primo-soccorso-gruppo-b-c.png
ORGANIZER;CN="Fast Security":MAILTO:attestati@fast-security.it
END:VEVENT
BEGIN:VEVENT
DTSTART;TZID=Europe/Paris:20260330T140000
DTEND;TZID=Europe/Paris:20260330T180000
DTSTAMP:20260420T093549
CREATED:20260316T115205Z
LAST-MODIFIED:20260316T115205Z
UID:20067-1774879200-1774893600@fast-security.it
SUMMARY:Antincendio (+ aggiornamenti)
DESCRIPTION:
URL:https://fast-security.it/calendario-corso/antincendio-aggiornamenti-8/
LOCATION:Aula + Training Center\, Viale della Navigazione Interna\, 51B\, Padova\, 35129\, Italy
ATTACH;FMTTYPE=image/jpeg:https://fast-security.it/wp-content/uploads/2025/05/antincendio_1-e1765901464212.jpg
ORGANIZER;CN="Fast Security":MAILTO:attestati@fast-security.it
END:VEVENT
END:VCALENDAR